BEGIN:VCALENDAR
VERSION:2.0
PRODID:-//AMAK - ECPv6.15.13//NONSGML v1.0//EN
CALSCALE:GREGORIAN
METHOD:PUBLISH
X-ORIGINAL-URL:https://amak.pt
X-WR-CALDESC:Eventos para AMAK
REFRESH-INTERVAL;VALUE=DURATION:PT1H
X-Robots-Tag:noindex
X-PUBLISHED-TTL:PT1H
BEGIN:VTIMEZONE
TZID:UTC
BEGIN:STANDARD
TZOFFSETFROM:+0000
TZOFFSETTO:+0000
TZNAME:UTC
DTSTART:20240101T000000
END:STANDARD
END:VTIMEZONE
BEGIN:VEVENT
DTSTART;VALUE=DATE:20251128
DTEND;VALUE=DATE:20251130
DTSTAMP:20260419T154615
CREATED:20250217T110614Z
LAST-MODIFIED:20251126T110207Z
UID:11367-1764288000-1764460799@amak.pt
SUMMARY:Rampa Regional do Paul do Mar 2025
DESCRIPTION:[ RESULTADOS ONLINE ]\n[ LISTA DE INSCRITOS ]\n[ HORÁRIOS DA PROVA ] \n[ REGULAMENTO DA COMPETIÇÃO ]\n[ QUADRO OFICIAL – SPORTITY (RRPM25) ]\n[ VIDEOS EM DIRETO – STREAMADEIRA ]\n[ SITE OFICIAL: www.ralisdonacional.com ]\n \n 
URL:https://amak.pt/event/rampa-regional-do-paul-do-mar-2024-copy/
CATEGORIES:Rampas
ORGANIZER;CN="CD Nacional da Madeira":MAILTO:autom.cdnacional@sapo.pt
END:VEVENT
END:VCALENDAR