BEGIN:VCALENDAR
VERSION:2.0
PRODID:-//AMAK - ECPv6.15.13//NONSGML v1.0//EN
CALSCALE:GREGORIAN
METHOD:PUBLISH
X-ORIGINAL-URL:https://amak.pt
X-WR-CALDESC:Eventos para AMAK
REFRESH-INTERVAL;VALUE=DURATION:PT1H
X-Robots-Tag:noindex
X-PUBLISHED-TTL:PT1H
BEGIN:VTIMEZONE
TZID:UTC
BEGIN:STANDARD
TZOFFSETFROM:+0000
TZOFFSETTO:+0000
TZNAME:UTC
DTSTART:20240101T000000
END:STANDARD
END:VTIMEZONE
BEGIN:VEVENT
DTSTART;VALUE=DATE:20250307
DTEND;VALUE=DATE:20250309
DTSTAMP:20260420T054238
CREATED:20250124T140129Z
LAST-MODIFIED:20250312T120453Z
UID:11207-1741305600-1741478399@amak.pt
SUMMARY:Rampa Regional da Ponta do Sol 2025
DESCRIPTION:[ RESULTADOS ONLINE ]\n[ LISTA DE INSCRITOS ]\n[ HORÁRIOS DA PROVA ]\n[ REGULAMENTO DESPORTIVO ]\n[ VIDEOS EM DIRETO – STREAMADEIRA ]\n[ QUADRO OFICIAL (SPORTITY: RRPS) ]\n[ SITE OFICIAL: ralisdonacional.com ]\n \n 
URL:https://amak.pt/event/rampa-regional-da-ponta-de-sol-2025/
CATEGORIES:Rampas
ORGANIZER;CN="CD Nacional da Madeira":MAILTO:autom.cdnacional@sapo.pt
END:VEVENT
END:VCALENDAR