BEGIN:VCALENDAR
VERSION:2.0
PRODID:-//AMAK - ECPv6.15.13//NONSGML v1.0//EN
CALSCALE:GREGORIAN
METHOD:PUBLISH
X-ORIGINAL-URL:https://amak.pt
X-WR-CALDESC:Eventos para AMAK
REFRESH-INTERVAL;VALUE=DURATION:PT1H
X-Robots-Tag:noindex
X-PUBLISHED-TTL:PT1H
BEGIN:VTIMEZONE
TZID:UTC
BEGIN:STANDARD
TZOFFSETFROM:+0000
TZOFFSETTO:+0000
TZNAME:UTC
DTSTART:20240101T000000
END:STANDARD
END:VTIMEZONE
BEGIN:VEVENT
DTSTART;VALUE=DATE:20251017
DTEND;VALUE=DATE:20251019
DTSTAMP:20260419T154251
CREATED:20250217T110518Z
LAST-MODIFIED:20251013T185755Z
UID:11365-1760659200-1760831999@amak.pt
SUMMARY:Rampa Regional S.C. Santacruzense / IC Publicidade 2025
DESCRIPTION:[ RESULTADOS ONLINE ]\n[ LISTA DE INSCRITOS ]\n[ HORÁRIOS DA PROVA ]\n[ ENCERRAMENTO DE ESTRADAS ]\n[ REGULAMENTO DA COMPETIÇÃO ]\n[ SPORTITY: RSCS2025 ]\n[ VIDEOS EM DIRETO – STREAMADEIRA ]\n[ SITE OFICIAL: www.accs.pt ]
URL:https://amak.pt/event/rampa-regional-s-c-santacruzense-ic-publicidade-2025/
CATEGORIES:Rampas
ORGANIZER;CN="ACCS":MAILTO:info@accs.pt
END:VEVENT
BEGIN:VEVENT
DTSTART;TZID=UTC:20251024T080000
DTEND;TZID=UTC:20251025T170000
DTSTAMP:20260419T154251
CREATED:20250217T110350Z
LAST-MODIFIED:20251024T084150Z
UID:11363-1761292800-1761411600@amak.pt
SUMMARY:Rampa Regional de Porto Moniz 2025
DESCRIPTION:[ RESULTADOS ONLINE ]\n[ LISTA DE INSCRITOS ]\n[ HORÁRIOS DA PROVA ]\n[ PROVA-EXTRA (MAPA) ]\n[ MAPA ]\n[ QUADRO OFICAL (SPORTITY:PM2025) ]\n[ REGULAMENTO DA COMPETIÇÃO ]\n[ VIDEOS EM DIRETO – STREAMADEIRA ]\n[ SITE OFICIAL: www.ralisdonacional.com ]\n 
URL:https://amak.pt/event/rampa-regional-do-porto-moniz-2024-copy/
CATEGORIES:Rampas
ORGANIZER;CN="CD Nacional da Madeira":MAILTO:autom.cdnacional@sapo.pt
END:VEVENT
END:VCALENDAR