BEGIN:VCALENDAR
VERSION:2.0
PRODID:-//AMAK - ECPv6.15.13//NONSGML v1.0//EN
CALSCALE:GREGORIAN
METHOD:PUBLISH
X-ORIGINAL-URL:https://amak.pt
X-WR-CALDESC:Eventos para AMAK
REFRESH-INTERVAL;VALUE=DURATION:PT1H
X-Robots-Tag:noindex
X-PUBLISHED-TTL:PT1H
BEGIN:VTIMEZONE
TZID:UTC
BEGIN:STANDARD
TZOFFSETFROM:+0000
TZOFFSETTO:+0000
TZNAME:UTC
DTSTART:20250101T000000
END:STANDARD
END:VTIMEZONE
BEGIN:VEVENT
DTSTART;VALUE=DATE:20260515
DTEND;VALUE=DATE:20260517
DTSTAMP:20260419T181757
CREATED:20251218T155040Z
LAST-MODIFIED:20251218T155040Z
UID:13025-1778803200-1778975999@amak.pt
SUMMARY:Rali Município de São Vicente 2026
DESCRIPTION:[ RESULTADOS ONLINE ]\n[ LISTA DE INSCRITOS ]\n[ QUADRO DE CONTROLOS ]\n[ ITINERÁRIO COMUM ]\n[ ENCERRAMENTO DE ESTRADAS ]\n[ MAPAS ]\n[ REGULAMENTO PARTICULAR ]\n[ QUADRO OFICIAL  ]\n[ LIVE STREAMING – STREAMadeira ]\n[ RÁDIO EM DIRETO Antena 3 ]\n[ SITE OFICIAL: www.ralisdonacional.com ]
URL:https://amak.pt/event/rali-municipio-de-sao-vicente-2026/
CATEGORIES:Ralis
ORGANIZER;CN="CD Nacional da Madeira":MAILTO:autom.cdnacional@sapo.pt
END:VEVENT
END:VCALENDAR