BEGIN:VCALENDAR
VERSION:2.0
PRODID:-//AMAK - ECPv6.15.13//NONSGML v1.0//EN
CALSCALE:GREGORIAN
METHOD:PUBLISH
X-WR-CALNAME:AMAK
X-ORIGINAL-URL:https://amak.pt
X-WR-CALDESC:Eventos para AMAK
REFRESH-INTERVAL;VALUE=DURATION:PT1H
X-Robots-Tag:noindex
X-PUBLISHED-TTL:PT1H
BEGIN:VTIMEZONE
TZID:UTC
BEGIN:STANDARD
TZOFFSETFROM:+0000
TZOFFSETTO:+0000
TZNAME:UTC
DTSTART:20250101T000000
END:STANDARD
END:VTIMEZONE
BEGIN:VEVENT
DTSTART;VALUE=DATE:20260313
DTEND;VALUE=DATE:20260315
DTSTAMP:20260419T201840
CREATED:20251218T154358Z
LAST-MODIFIED:20260312T112640Z
UID:13013-1773360000-1773532799@amak.pt
SUMMARY:Rali do Marítimo/Município de Machico 2026
DESCRIPTION:[ RESULTADOS ONLINE ]\n\n\n\n[ LISTA DE INSCRITOS ]\n\n\n\n[ HORÁRIOS ]\n\n\n\n[ ENCERRAMENTO DE ESTRADAS ]\n\n\n\n[ MAPA SUPER-ESPECIAL ]\n\n\n\n[ MAPAS ]\n\n\n\n[ QUADRO OFICIAL (SPORTITY: RM2026) ]\n\n\n\n[ RÁDIO EM DIRETO Antena 3 ]\n\n\n\n[ VÍDEOS EM DIRETO – STREAMadeira.pt ]\n\n\n\n[ REGULAMENTO DA COMPETIÇÃO ]\n\n\n\n[ SITE OFICIAL: www.csmaritimo.org.pt ]
URL:https://amak.pt/event/rali-do-maritimo-municipio-de-machico-club-sport-maritimo/
CATEGORIES:Ralis
ORGANIZER;CN="CS Mar%C3%ADtimo":MAILTO:automobilismo@csmaritimo.pt
END:VEVENT
END:VCALENDAR