BEGIN:VCALENDAR
VERSION:2.0
PRODID:-//AMAK - ECPv6.15.13//NONSGML v1.0//EN
CALSCALE:GREGORIAN
METHOD:PUBLISH
X-ORIGINAL-URL:https://amak.pt
X-WR-CALDESC:Eventos para AMAK
REFRESH-INTERVAL;VALUE=DURATION:PT1H
X-Robots-Tag:noindex
X-PUBLISHED-TTL:PT1H
BEGIN:VTIMEZONE
TZID:UTC
BEGIN:STANDARD
TZOFFSETFROM:+0000
TZOFFSETTO:+0000
TZNAME:UTC
DTSTART:20240101T000000
END:STANDARD
END:VTIMEZONE
BEGIN:VEVENT
DTSTART;TZID=UTC:20251107T080000
DTEND;TZID=UTC:20251108T170000
DTSTAMP:20260420T031401
CREATED:20250110T154115Z
LAST-MODIFIED:20251106T152212Z
UID:11185-1762502400-1762621200@amak.pt
SUMMARY:Rali Porto Santo 2025
DESCRIPTION:[ TEMPOS ONLINE ]\n[ LISTA DE INSCRITOS ]\n[ ITINERÁRIO E HORÁRIOS ]\n[ ENCERRAMENTO DE ESTRADAS ]\n[ MAPAS ]\n[ REGULAMENTO PARTICULAR ]\n[ QUADRO OFICIAL (SPORTITY: PXO25) ]\n[ RÁDIO EM DIRETO Antena 3 ]\n[ VÍDEOS EM DIRETO – STREAMadeira.pt ]\n[ SITE OFICIAL]
URL:https://amak.pt/event/rali-100-a-hora-2024-copy/
CATEGORIES:Ralis
ORGANIZER;CN="C. A. 100 %C3%A0 hora Madeira":MAILTO:clube100ahoramadeira@gmail.com
END:VEVENT
END:VCALENDAR