BEGIN:VCALENDAR
VERSION:2.0
PRODID:-//AMAK - ECPv6.15.13//NONSGML v1.0//EN
CALSCALE:GREGORIAN
METHOD:PUBLISH
X-WR-CALNAME:AMAK
X-ORIGINAL-URL:https://amak.pt
X-WR-CALDESC:Eventos para AMAK
REFRESH-INTERVAL;VALUE=DURATION:PT1H
X-Robots-Tag:noindex
X-PUBLISHED-TTL:PT1H
BEGIN:VTIMEZONE
TZID:UTC
BEGIN:STANDARD
TZOFFSETFROM:+0000
TZOFFSETTO:+0000
TZNAME:UTC
DTSTART:20240101T000000
END:STANDARD
END:VTIMEZONE
BEGIN:VEVENT
DTSTART;VALUE=DATE:20250704
DTEND;VALUE=DATE:20250706
DTSTAMP:20260420T142523
CREATED:20250110T153733Z
LAST-MODIFIED:20250701T195619Z
UID:11179-1751587200-1751759999@amak.pt
SUMMARY:XXI Rali da Calheta 2025
DESCRIPTION:[ TEMPOS ONLINE ]\n[ LISTA DE INSCRITOS ]\n[ PROGRAMA ]\n[ ITINERÁRIO DETALHADO ]\n[ MAPA DE CONTROLOS ]\n[ ENCERRAMENTO DE ESTRADAS ]\n[ RÁDIO EM DIRETO Antena 3 ]\n[ VÍDEOS EM DIRETO – STREAMadeira ]\n[ QUADRO OFICIAL (SPORTITY: RC2025) ]\n[ REGULAMENTO DA COMPETIÇÃO ]\n[ SITE OFICIAL: www.ralidacalheta.com ]
URL:https://amak.pt/event/rali-da-calheta-2025/
CATEGORIES:Ralis
END:VEVENT
END:VCALENDAR