BEGIN:VCALENDAR
VERSION:2.0
PRODID:-//AMAK - ECPv6.15.13//NONSGML v1.0//EN
CALSCALE:GREGORIAN
METHOD:PUBLISH
X-ORIGINAL-URL:https://amak.pt
X-WR-CALDESC:Eventos para AMAK
REFRESH-INTERVAL;VALUE=DURATION:PT1H
X-Robots-Tag:noindex
X-PUBLISHED-TTL:PT1H
BEGIN:VTIMEZONE
TZID:UTC
BEGIN:STANDARD
TZOFFSETFROM:+0000
TZOFFSETTO:+0000
TZNAME:UTC
DTSTART:20240101T000000
END:STANDARD
END:VTIMEZONE
BEGIN:VEVENT
DTSTART;TZID=UTC:20250509T080000
DTEND;TZID=UTC:20250510T170000
DTSTAMP:20260420T180104
CREATED:20250110T153449Z
LAST-MODIFIED:20250507T154627Z
UID:11173-1746777600-1746896400@amak.pt
SUMMARY:Rali Município de São Vicente 2025
DESCRIPTION:[ RESULTADOS ONLINE ]\n[ LISTA DE INSCRITOS ]\n[ QUADRO DE CONTROLOS ]\n[ ITINERÁRIO COMUM ]\n[ ENCERRAMENTO DE ESTRADAS ]\n[ MAPAS ]\n[ REGULAMENTO PARTICULAR ]\n[ SPORTITY: RSV2025  ]\n[ LIVE STREAMING – STREAMadeira ]\n[ RÁDIO EM DIRETO Antena 3 ]\n[ SITE OFICIAL: www.ralisdonacional.com ]\n \n 
URL:https://amak.pt/event/rali-municipio-de-sao-vicente-2024-copy/
CATEGORIES:Ralis
ORGANIZER;CN="CD Nacional da Madeira":MAILTO:autom.cdnacional@sapo.pt
END:VEVENT
END:VCALENDAR