BEGIN:VCALENDAR
VERSION:2.0
PRODID:-//AMAK - ECPv6.15.13//NONSGML v1.0//EN
CALSCALE:GREGORIAN
METHOD:PUBLISH
X-ORIGINAL-URL:https://amak.pt
X-WR-CALDESC:Eventos para AMAK
REFRESH-INTERVAL;VALUE=DURATION:PT1H
X-Robots-Tag:noindex
X-PUBLISHED-TTL:PT1H
BEGIN:VTIMEZONE
TZID:UTC
BEGIN:STANDARD
TZOFFSETFROM:+0000
TZOFFSETTO:+0000
TZNAME:UTC
DTSTART:20230101T000000
END:STANDARD
END:VTIMEZONE
BEGIN:VEVENT
DTSTART;TZID=UTC:20240801T080000
DTEND;TZID=UTC:20240803T170000
DTSTAMP:20260421T095412
CREATED:20240122T101500Z
LAST-MODIFIED:20240801T065034Z
UID:5652-1722499200-1722704400@amak.pt
SUMMARY:Rali Vinho da Madeira 2024
DESCRIPTION:[ TEMPOS ONLINE ]\n[ LISTA DE INSCRITOS ]\n[ LISTA DE INSCRITOS (QUALIFYING) ]\n[ PROGRAMA ]\n[ PERCURSO DETALHADO ]\n[ ENCERRAMENTO DE ESTRADAS ]\n[ CLASSIFICATIVAS E MAPAS ]\n[ QUADRO OFICIAL ]\n[ LIVE STREAM – STREAMadeira ]\n[ RÁDIO EM DIRETO Antena 3 ]\n[ LIVE STREAM RTP-MADEIRA ]\n[ PLANO DE SUSTENTABILIDADE AMBIENTAL ]\n[ PALMARÉS ]\n[ SITE OFICIAL: www.ralivm.com ]
URL:https://amak.pt/event/rali-vinho-da-madeira-2024/
CATEGORIES:Ralis
END:VEVENT
END:VCALENDAR