BEGIN:VCALENDAR
VERSION:2.0
PRODID:-//AMAK - ECPv6.15.13//NONSGML v1.0//EN
CALSCALE:GREGORIAN
METHOD:PUBLISH
X-WR-CALNAME:AMAK
X-ORIGINAL-URL:https://amak.pt
X-WR-CALDESC:Eventos para AMAK
REFRESH-INTERVAL;VALUE=DURATION:PT1H
X-Robots-Tag:noindex
X-PUBLISHED-TTL:PT1H
BEGIN:VTIMEZONE
TZID:UTC
BEGIN:STANDARD
TZOFFSETFROM:+0000
TZOFFSETTO:+0000
TZNAME:UTC
DTSTART:20230101T000000
END:STANDARD
END:VTIMEZONE
BEGIN:VEVENT
DTSTART;VALUE=DATE:20240712
DTEND;VALUE=DATE:20240714
DTSTAMP:20260421T113228
CREATED:20240122T101100Z
LAST-MODIFIED:20240710T133947Z
UID:5646-1720742400-1720915199@amak.pt
SUMMARY:Rali da Ribeira Brava 2024
DESCRIPTION:[ TEMPOS ONLINE ]\n[ LISTA DE INSCRITOS ]\n[ ENCERRAMENTOS DE ESTRADA ]\n[ MAPA DE CONTROLOS ]\n[ MAPAS ]\n[ RÁDIO EM DIRETO Antena 3 ]\n[ VÍDEOS EM DIRETO – STREAMadeira.pt ]\n[ REGULAMENTO DA COMPETIÇÃO ]\n[ SITE OFICIAL www.accs.pt ]
URL:https://amak.pt/event/rali-da-ribeira-brava-2024/
CATEGORIES:Ralis
ORGANIZER;CN="ACCS":MAILTO:info@accs.pt
END:VEVENT
END:VCALENDAR