BEGIN:VCALENDAR
VERSION:2.0
PRODID:-//AMAK - ECPv6.15.13//NONSGML v1.0//EN
CALSCALE:GREGORIAN
METHOD:PUBLISH
X-ORIGINAL-URL:https://amak.pt
X-WR-CALDESC:Eventos para AMAK
REFRESH-INTERVAL;VALUE=DURATION:PT1H
X-Robots-Tag:noindex
X-PUBLISHED-TTL:PT1H
BEGIN:VTIMEZONE
TZID:UTC
BEGIN:STANDARD
TZOFFSETFROM:+0000
TZOFFSETTO:+0000
TZNAME:UTC
DTSTART:20220101T000000
END:STANDARD
END:VTIMEZONE
BEGIN:VEVENT
DTSTART;VALUE=DATE:20231103
DTEND;VALUE=DATE:20231105
DTSTAMP:20260422T012844
CREATED:20230301T135402Z
LAST-MODIFIED:20230301T135402Z
UID:3279-1698969600-1699142399@amak.pt
SUMMARY:Rali 100 à Hora 2023
DESCRIPTION:[ TEMPOS ONLINE ]\n[ LISTA DE INSCRITOS ]\n[ ITINERÁRIO E HORÁRIOS ]\n[ ENCERRAMENTO DE ESTRADAS ]\n[ MAPAS ]\n[ REGULAMENTO PARTICULAR ]\n[ RÁDIO EM DIRETO Antena 3 ]\n[ SITE OFICIAL]
URL:https://amak.pt/event/rali-100-a-hora/
CATEGORIES:Ralis
ORGANIZER;CN="C. A. 100 %C3%A0 hora Madeira":MAILTO:clube100ahoramadeira@gmail.com
END:VEVENT
END:VCALENDAR