BEGIN:VCALENDAR
VERSION:2.0
PRODID:-//AMAK - ECPv6.15.13//NONSGML v1.0//EN
CALSCALE:GREGORIAN
METHOD:PUBLISH
X-ORIGINAL-URL:https://amak.pt
X-WR-CALDESC:Eventos para AMAK
REFRESH-INTERVAL;VALUE=DURATION:PT1H
X-Robots-Tag:noindex
X-PUBLISHED-TTL:PT1H
BEGIN:VTIMEZONE
TZID:UTC
BEGIN:STANDARD
TZOFFSETFROM:+0000
TZOFFSETTO:+0000
TZNAME:UTC
DTSTART:20240101T000000
END:STANDARD
END:VTIMEZONE
BEGIN:VEVENT
DTSTART;VALUE=DATE:20250606
DTEND;VALUE=DATE:20250608
DTSTAMP:20260420T142410
CREATED:20250110T153620Z
LAST-MODIFIED:20250605T145039Z
UID:11177-1749168000-1749340799@amak.pt
SUMMARY:Rali da Ribeira Brava 2025
DESCRIPTION:[ TEMPOS ONLINE ]\n[ LISTA DE INSCRITOS ]\n[ ENCERRAMENTOS DE ESTRADA ]\n[ MAPA DE CONTROLOS ]\n[ QUADRO OFICIAL: SPORTITY (RRB2025) ]\n[ RÁDIO EM DIRETO Antena 3 ]\n[ VÍDEOS EM DIRETO – STREAMadeira.pt ]\n[ REGULAMENTO DA COMPETIÇÃO ]\n[ SITE OFICIAL www.accs.pt ]
URL:https://amak.pt/event/rali-da-ribeira-brava-2024-copy/
CATEGORIES:Ralis
ORGANIZER;CN="ACCS":MAILTO:info@accs.pt
END:VEVENT
END:VCALENDAR