BEGIN:VCALENDAR
VERSION:2.0
PRODID:-//AMAK - ECPv6.15.13//NONSGML v1.0//EN
CALSCALE:GREGORIAN
METHOD:PUBLISH
X-WR-CALNAME:AMAK
X-ORIGINAL-URL:https://amak.pt
X-WR-CALDESC:Eventos para AMAK
REFRESH-INTERVAL;VALUE=DURATION:PT1H
X-Robots-Tag:noindex
X-PUBLISHED-TTL:PT1H
BEGIN:VTIMEZONE
TZID:UTC
BEGIN:STANDARD
TZOFFSETFROM:+0000
TZOFFSETTO:+0000
TZNAME:UTC
DTSTART:20230101T000000
END:STANDARD
END:VTIMEZONE
BEGIN:VEVENT
DTSTART;VALUE=DATE:20240412
DTEND;VALUE=DATE:20240414
DTSTAMP:20260421T151102
CREATED:20240122T100604Z
LAST-MODIFIED:20240411T111845Z
UID:5639-1712880000-1713052799@amak.pt
SUMMARY:XX Rali da Calheta 2024
DESCRIPTION:[ TEMPOS ONLINE ]\n[ LISTA DE INSCRITOS ]\n[ PROGRAMA ]\n[ ITINERÁRIO DETALHADO ]\n[ MAPA DE CONTROLOS ]\n[ ENCERRAMENTO DE ESTRADAS ]\n[ MAPAS 1ªSECÇÃO ]\n[ MAPAS 2ª E 3ª SECÇÃO ]\n[ RÁDIO EM DIRETO Antena 3 ]\n[ VÍDEOS EM DIRETO – STREAMadeira ]\n[ QUADRO OFICIAL (SPORTITY) ]\n[ REGULAMENTO DA COMPETIÇÃO ]\n[ SITE OFICIAL: www.ralidacalheta.com ]
URL:https://amak.pt/event/xx-rali-da-calheta-2024/
CATEGORIES:Ralis
END:VEVENT
END:VCALENDAR