BEGIN:VCALENDAR
VERSION:2.0
PRODID:-//AMAK - ECPv6.15.13//NONSGML v1.0//EN
CALSCALE:GREGORIAN
METHOD:PUBLISH
X-WR-CALNAME:AMAK
X-ORIGINAL-URL:https://amak.pt
X-WR-CALDESC:Eventos para AMAK
REFRESH-INTERVAL;VALUE=DURATION:PT1H
X-Robots-Tag:noindex
X-PUBLISHED-TTL:PT1H
BEGIN:VTIMEZONE
TZID:UTC
BEGIN:STANDARD
TZOFFSETFROM:+0000
TZOFFSETTO:+0000
TZNAME:UTC
DTSTART:20220101T000000
END:STANDARD
END:VTIMEZONE
BEGIN:VEVENT
DTSTART;VALUE=DATE:20231026
DTEND;VALUE=DATE:20231029
DTSTAMP:20260422T012119
CREATED:20230301T141226Z
LAST-MODIFIED:20230301T141226Z
UID:3303-1698278400-1698537599@amak.pt
SUMMARY:Rally Madeira Legend
DESCRIPTION:[ RESULTADOS ONLINE ]\n[ LISTA DE INSCRITOS ]\n[ PERCURSO DETALHADO ]\n[ ENCERRAMENTO DE ESTRADAS ]\n[ PROGRAMA ]\n[ LIVE STREAM / VÍDEOS EM DIRETO ]\n[ REGULAMENTO DA COMPETIÇÃO ]\n[ SITE OFICIAL: www.rallymadeiralegend.pt/ ]
URL:https://amak.pt/event/3303/
CATEGORIES:Ralis
END:VEVENT
END:VCALENDAR