BEGIN:VCALENDAR
VERSION:2.0
PRODID:-//AMAK - ECPv6.15.13//NONSGML v1.0//EN
CALSCALE:GREGORIAN
METHOD:PUBLISH
X-WR-CALNAME:AMAK
X-ORIGINAL-URL:https://amak.pt
X-WR-CALDESC:Eventos para AMAK
REFRESH-INTERVAL;VALUE=DURATION:PT1H
X-Robots-Tag:noindex
X-PUBLISHED-TTL:PT1H
BEGIN:VTIMEZONE
TZID:UTC
BEGIN:STANDARD
TZOFFSETFROM:+0000
TZOFFSETTO:+0000
TZNAME:UTC
DTSTART:20220101T000000
END:STANDARD
END:VTIMEZONE
BEGIN:VEVENT
DTSTART;VALUE=DATE:20230505
DTEND;VALUE=DATE:20230507
DTSTAMP:20260422T093545
CREATED:20230301T134312Z
LAST-MODIFIED:20230301T134312Z
UID:3269-1683244800-1683417599@amak.pt
SUMMARY:Rali da Calheta 2023
DESCRIPTION:[ TEMPOS ONLINE ]\n[ TRACKING GPS ]\n[ LISTA DE INSCRITOS ]\n[ PROGRAMA ]\n[ ITINERÁRIO DETALHADO ]\n[ MAPA DE CONTROLOS ]\n[ ENCERRAMENTO DE ESTRADAS ]\n[ MAPAS 1ªSECÇÃO ]\n[ MAPAS 2ª E 3ª SECÇÃO ]\n[ RÁDIO EM DIRETO Antena 3 ]\n[ VÍDEOS EM DIRETO – STREAMadeira ]\n[ CENTRO OPERACIONAL ]\n[ MAPA ALTERNATIVO ]\n[ REGULAMENTO DA COMPETIÇÃO ]\n[ MAPAS DE SEGURANÇA ]\n[ SITE OFICIAL: www.ralidacalheta.com ]
URL:https://amak.pt/event/rali-da-calheta/
CATEGORIES:Ralis
END:VEVENT
END:VCALENDAR