BEGIN:VCALENDAR
VERSION:2.0
PRODID:-//AMAK - ECPv6.15.13//NONSGML v1.0//EN
CALSCALE:GREGORIAN
METHOD:PUBLISH
X-ORIGINAL-URL:https://amak.pt
X-WR-CALDESC:Eventos para AMAK
REFRESH-INTERVAL;VALUE=DURATION:PT1H
X-Robots-Tag:noindex
X-PUBLISHED-TTL:PT1H
BEGIN:VTIMEZONE
TZID:UTC
BEGIN:STANDARD
TZOFFSETFROM:+0000
TZOFFSETTO:+0000
TZNAME:UTC
DTSTART:20220101T000000
END:STANDARD
END:VTIMEZONE
BEGIN:VEVENT
DTSTART;VALUE=DATE:20230902
DTEND;VALUE=DATE:20230904
DTSTAMP:20260421T175238
CREATED:20230831T110400Z
LAST-MODIFIED:20230831T110400Z
UID:4930-1693612800-1693785599@amak.pt
SUMMARY:Sem Tração
DESCRIPTION:[ RESULTADOS ]\n[ LISTA DE INSCRITOS ]\n[ MAPA ]\n[ REGULAMENTO DA COMPETIÇÃO ]\n[ SITE OFICIAL: www.csmaritimo.org.pt ]
URL:https://amak.pt/event/sem-tracao/
CATEGORIES:DRIFT
ORGANIZER;CN="CS Mar%C3%ADtimo":MAILTO:automobilismo@csmaritimo.pt
END:VEVENT
END:VCALENDAR