BEGIN:VCALENDAR
VERSION:2.0
PRODID:-//AMAK - ECPv6.15.13//NONSGML v1.0//EN
CALSCALE:GREGORIAN
METHOD:PUBLISH
X-ORIGINAL-URL:https://amak.pt
X-WR-CALDESC:Eventos para AMAK
REFRESH-INTERVAL;VALUE=DURATION:PT1H
X-Robots-Tag:noindex
X-PUBLISHED-TTL:PT1H
BEGIN:VTIMEZONE
TZID:UTC
BEGIN:STANDARD
TZOFFSETFROM:+0000
TZOFFSETTO:+0000
TZNAME:UTC
DTSTART:20220101T000000
END:STANDARD
END:VTIMEZONE
BEGIN:VEVENT
DTSTART;VALUE=DATE:20230611
DTEND;VALUE=DATE:20230612
DTSTAMP:20260421T210903
CREATED:20230531T145828Z
LAST-MODIFIED:20230531T145828Z
UID:4210-1686441600-1686527999@amak.pt
SUMMARY:São Vicente DRIFT
DESCRIPTION:[ RESULTADOS ]\n[ LISTA DE INSCRITOS ]\n[ HORÁRIOS ]\n[ ENCERRAMENTO DE ESTRADAS ]\n[ MAPA ]\n[ INFORMAÇÃO AOS CONCORRENTES ]\n[ INFORMAÇÃO AOS MÉDIA ]\n[ REGULAMENTO DA COMPETIÇÃO ]\n[ ADITAMENTO N.º 1 ]\n[ SITE OFICIAL: www.csmaritimo.org.pt ]
URL:https://amak.pt/event/sao-vicente-drift/
CATEGORIES:DRIFT
ORGANIZER;CN="CS Mar%C3%ADtimo":MAILTO:automobilismo@csmaritimo.pt
END:VEVENT
END:VCALENDAR